BEGIN:VCALENDAR
VERSION:2.0
PRODID:icalendar-ruby
CALSCALE:GREGORIAN
METHOD:PUBLISH
BEGIN:VEVENT
DTSTAMP:20260424T200312Z
UID:28-1445851@redemptionpointag.church
DTSTART;VALUE=DATE:20260426
DTEND;VALUE=DATE:20260426
CLASS:PUBLIC
CREATED:20260407T162459
DESCRIPTION:Baptisms take place during both of out worship services so that
  you're friends and family can celebrate with you!\nIf you are ready to ta
 ke that next step in your walk and be baptized\, sign-ups are in the lobby
 ! 
LAST-MODIFIED:20260407T162459
LOCATION:Main Sanctuary
SUMMARY:Baptism Sunday
URL;VALUE=URI:https://www.redemptionpointag.church/events/baptism-sunday/20
 26-04-26
ATTACH;FILENAME=Baptism.png;FMTTYPE=image/png:https://dq5pwpg1q8ru0.cloudfr
 ont.net/2026/04/07/19/46/23/1e0d09d3-b8d5-4850-9f31-fc3f12ca2d09/Baptism.p
 ng
END:VEVENT
END:VCALENDAR
