BEGIN:VCALENDAR
VERSION:2.0
PRODID:icalendar-ruby
CALSCALE:GREGORIAN
METHOD:PUBLISH
BEGIN:VEVENT
DTSTAMP:20260424T202541Z
UID:13-1473921@redemptionpointag.church
DTSTART:20260505T220000Z
DTEND:20260505T230000Z
CLASS:PUBLIC
CREATED:20260424T142006
DESCRIPTION:Find Your Tribe 6 PM (Women"s Bible Study)
LAST-MODIFIED:20260424T142006
LOCATION:Main Sanctuary
SUMMARY:Find Your Tribe PM
URL;VALUE=URI:https://www.redemptionpointag.church/events/find-your-tribe-p
 m/2026-05-05
END:VEVENT
END:VCALENDAR
