BEGIN:VCALENDAR
VERSION:2.0
PRODID:icalendar-ruby
CALSCALE:GREGORIAN
METHOD:PUBLISH
BEGIN:VEVENT
DTSTAMP:20260425T104347Z
UID:13-1474787@redemptionpointag.church
DTSTART:20260630T220000Z
DTEND:20260630T230000Z
CLASS:PUBLIC
CREATED:20260424T224528
DESCRIPTION:Find Your Tribe 6 PM (Women"s Bible Study)
LAST-MODIFIED:20260424T224528
LOCATION:Main Sanctuary
SUMMARY:Find Your Tribe PM
URL;VALUE=URI:https://www.redemptionpointag.church/events/find-your-tribe-p
 m/2026-06-30
END:VEVENT
END:VCALENDAR
