BEGIN:VCALENDAR
VERSION:2.0
PRODID:icalendar-ruby
CALSCALE:GREGORIAN
METHOD:PUBLISH
BEGIN:VEVENT
DTSTAMP:20260425T140703Z
UID:13-1475075@redemptionpointag.church
DTSTART:20260714T220000Z
DTEND:20260714T230000Z
CLASS:PUBLIC
CREATED:20260425T082910
DESCRIPTION:Find Your Tribe 6 PM (Women"s Bible Study)
LAST-MODIFIED:20260425T082910
LOCATION:Main Sanctuary
SUMMARY:Find Your Tribe PM
URL;VALUE=URI:https://www.redemptionpointag.church/events/find-your-tribe-p
 m/2026-07-14
END:VEVENT
END:VCALENDAR
