BEGIN:VCALENDAR
VERSION:2.0
PRODID:icalendar-ruby
CALSCALE:GREGORIAN
METHOD:PUBLISH
BEGIN:VEVENT
DTSTAMP:20260425T161805Z
UID:13-1475362@redemptionpointag.church
DTSTART:20260721T220000Z
DTEND:20260721T230000Z
CLASS:PUBLIC
CREATED:20260425T111005
DESCRIPTION:Find Your Tribe 6 PM (Women"s Bible Study)
LAST-MODIFIED:20260425T111005
LOCATION:Main Sanctuary
SUMMARY:Find Your Tribe PM
URL;VALUE=URI:https://www.redemptionpointag.church/events/find-your-tribe-p
 m/2026-07-21
END:VEVENT
END:VCALENDAR
