BEGIN:VCALENDAR
VERSION:2.0
PRODID:icalendar-ruby
CALSCALE:GREGORIAN
METHOD:PUBLISH
BEGIN:VEVENT
DTSTAMP:20260425T215932Z
UID:13-1475937@redemptionpointag.church
DTSTART:20260811T220000Z
DTEND:20260811T230000Z
CLASS:PUBLIC
CREATED:20260425T163132
DESCRIPTION:Find Your Tribe 6 PM (Women"s Bible Study)
LAST-MODIFIED:20260425T163132
LOCATION:Main Sanctuary
SUMMARY:Find Your Tribe PM
URL;VALUE=URI:https://www.redemptionpointag.church/events/find-your-tribe-p
 m/2026-08-11
END:VEVENT
END:VCALENDAR
