BEGIN:VCALENDAR
VERSION:2.0
PRODID:icalendar-ruby
CALSCALE:GREGORIAN
METHOD:PUBLISH
BEGIN:VEVENT
DTSTAMP:20260424T202842Z
UID:34-1447465@redemptionpointag.church
DTSTART;VALUE=DATE:20260428
DTEND;VALUE=DATE:20260526
CLASS:PUBLIC
CREATED:20260408T122028
DESCRIPTION:We are launching our NEW Bible Study for Find Your Tribe! We wi
 ll be studying the book of Philippians. Please make sure to sign-up in the
  Lobby and order your book through the Amazon link below or scanning the Q
 R Code! \nLink: https://www.amazon.com/dp/1621940101?ref=nb_sb_ss_w_ab-ac
 -bia_nk_11_14_kp7ap0&amp\;amp=&amp\;crid=LJ5OPT5F6FQX&amp\;amp=&amp\;spref
 ix=engaging+gods+\nPlease contact Pastor Jessica Miller if you have any qu
 estions! 
LAST-MODIFIED:20260408T122028
LOCATION:Main Sanctuary
SUMMARY:FYT Philippians Study LAUNCH
URL;VALUE=URI:https://www.redemptionpointag.church/events/fyt-philippians-s
 tudy-launch/2026-04-28
ATTACH;FILENAME=Find-Your-Tribe-Real-Estate-Flyer.png;FMTTYPE=image/png:htt
 ps://dq5pwpg1q8ru0.cloudfront.net/2026/04/08/16/18/19/5ae38009-2d74-4f84-a
 cb0-08c7cb2f3701/Find-Your-Tribe-Real-Estate-Flyer.png
END:VEVENT
END:VCALENDAR
