BEGIN:VCALENDAR
VERSION:2.0
PRODID:icalendar-ruby
CALSCALE:GREGORIAN
METHOD:PUBLISH
BEGIN:VEVENT
DTSTAMP:20260424T203041Z
UID:30-1472190@redemptionpointag.church
DTSTART;VALUE=DATE:20260501
DTEND;VALUE=DATE:20260503
CLASS:PUBLIC
CREATED:20260423T124019
DESCRIPTION:
LAST-MODIFIED:20260423T124019
LOCATION:Gatlinburg\, TN
SUMMARY:Kidsfest
URL;VALUE=URI:https://www.redemptionpointag.church/events/kidsfest/2026-05-
 01
ATTACH;FILENAME=Screenshot-2026-04-07-at-5.02.18PM.png;FMTTYPE=image/png:ht
 tps://dq5pwpg1q8ru0.cloudfront.net/2026/04/07/21/05/07/b4ff00ec-a412-4af6-
 a680-ae4d515c83c2/Screenshot-2026-04-07-at-5.02.18PM.png
END:VEVENT
END:VCALENDAR
