BEGIN:VCALENDAR
VERSION:2.0
PRODID:icalendar-ruby
CALSCALE:GREGORIAN
METHOD:PUBLISH
BEGIN:VEVENT
DTSTAMP:20260424T220712Z
UID:38-1472485@redemptionpointag.church
DTSTART:20260501T230000Z
DTEND:20260502T010000Z
CLASS:PUBLIC
CREATED:20260423T160350
DESCRIPTION:RP Young Adults - What To Expect\n\nJoin us the first Friday at
  7PM in the Lobby! Bring a Mexican Themed Dish to share. Once we break bre
 ad together\, we gather in the sanctuary for worship with Pastor Jame and 
 the a powerful word from Pastor Christian! This is a lowkey night where we
  can all connect\, laugh\, eat\, and dive into the Lord's presence togethe
 r! 
LAST-MODIFIED:20260423T160350
LOCATION:Main Campus - Lobby
SUMMARY:RP Young Adults
URL;VALUE=URI:https://www.redemptionpointag.church/events/rp-young-adults/2
 026-05-01
ATTACH;FILENAME=582790543_2340772769727693_9140957337316032653_n.jpg;FMTTYP
 E=image/jpeg:https://dq5pwpg1q8ru0.cloudfront.net/2026/04/23/20/02/15/dcf0
 7584-fa4f-4021-b08c-f977cc4b797d/582790543_2340772769727693_91409573373160
 32653_n.jpg
END:VEVENT
END:VCALENDAR
